BEGIN:VCALENDAR
VERSION:2.0
PRODID:-//SGAP Leaders - ECPv6.14.1//NONSGML v1.0//EN
CALSCALE:GREGORIAN
METHOD:PUBLISH
X-WR-CALNAME:SGAP Leaders
X-ORIGINAL-URL:https://www.sgapleaders.org
X-WR-CALDESC:Events for SGAP Leaders
REFRESH-INTERVAL;VALUE=DURATION:PT1H
X-Robots-Tag:noindex
X-PUBLISHED-TTL:PT1H
BEGIN:VTIMEZONE
TZID:UTC
BEGIN:STANDARD
TZOFFSETFROM:+0000
TZOFFSETTO:+0000
TZNAME:UTC
DTSTART:20210101T000000
END:STANDARD
END:VTIMEZONE
BEGIN:VEVENT
DTSTART;VALUE=DATE:20220409
DTEND;VALUE=DATE:20220410
DTSTAMP:20260425T105841
CREATED:20220630T051610Z
LAST-MODIFIED:20220713T025720Z
UID:724-1649462400-1649548799@www.sgapleaders.org
SUMMARY:GREEN PROJECTS: SPRING CLEAN-UP
DESCRIPTION:128 middle and high school students at 3 MCPP\nparks; 98 bags of trash. Event built awareness\nabout our programs within the DMV/ 512 SSL\nhours earned.
URL:https://www.sgapleaders.org/event/green-projects-spring-clean-up/
END:VEVENT
BEGIN:VEVENT
DTSTART;VALUE=DATE:20220404
DTEND;VALUE=DATE:20220405
DTSTAMP:20260425T105841
CREATED:20220630T051530Z
LAST-MODIFIED:20220630T051530Z
UID:723-1649030400-1649116799@www.sgapleaders.org
SUMMARY:SGAP Leaders SPEAK
DESCRIPTION:Austin Joseph shares his failures and lessons learned as he positioned himself for a career at Microsoft’s XBox
URL:https://www.sgapleaders.org/event/sgap-leaders-speak-4/
END:VEVENT
BEGIN:VEVENT
DTSTART;VALUE=DATE:20220328
DTEND;VALUE=DATE:20220329
DTSTAMP:20260425T105842
CREATED:20220630T045242Z
LAST-MODIFIED:20220630T045242Z
UID:710-1648425600-1648511999@www.sgapleaders.org
SUMMARY:SGAP SERVES: So Others Might Eat (SOME)
DESCRIPTION:
URL:https://www.sgapleaders.org/event/sgap-serves-so-others-might-eat-some/
END:VEVENT
BEGIN:VEVENT
DTSTART;VALUE=DATE:20220304
DTEND;VALUE=DATE:20220305
DTSTAMP:20260425T105842
CREATED:20220630T051459Z
LAST-MODIFIED:20220630T051459Z
UID:722-1646352000-1646438399@www.sgapleaders.org
SUMMARY:SGAP Leaders SPEAK
DESCRIPTION:Liana Abbott shares her experience in college and tips on navigating college.\n (15 high school seniors)
URL:https://www.sgapleaders.org/event/sgap-leaders-speak-3/
END:VEVENT
BEGIN:VEVENT
DTSTART;VALUE=DATE:20220301
DTEND;VALUE=DATE:20220401
DTSTAMP:20260425T105842
CREATED:20220630T051427Z
LAST-MODIFIED:20220713T025147Z
UID:721-1646092800-1648771199@www.sgapleaders.org
SUMMARY:THINK DESIGN on Social Impact\, DMV
DESCRIPTION:AAPI Hate! Workshop – SSL hours earned Ting\nHuang – Program Lead – facilitated the workshop
URL:https://www.sgapleaders.org/event/think-design-on-social-impact-dmv/
END:VEVENT
BEGIN:VEVENT
DTSTART;VALUE=DATE:20220214
DTEND;VALUE=DATE:20220215
DTSTAMP:20260425T105842
CREATED:20220630T051353Z
LAST-MODIFIED:20220630T051353Z
UID:720-1644796800-1644883199@www.sgapleaders.org
SUMMARY:SGAP Leaders SPEAK
DESCRIPTION:Sydney Webber – Credit Ops Lead at SQUARE Financial Services\n \n Ms. Webber is a graduate of the University of Pennsylvania and has worked as an analyst at Well Fargo. Students will learn the value of networking and how to create their own career opportunities. (15 high school seniors)
URL:https://www.sgapleaders.org/event/sgap-leaders-speak-2/
END:VEVENT
BEGIN:VEVENT
DTSTART;VALUE=DATE:20220201
DTEND;VALUE=DATE:20220501
DTSTAMP:20260425T105842
CREATED:20220713T025235Z
LAST-MODIFIED:20220713T025254Z
UID:766-1643673600-1651363199@www.sgapleaders.org
SUMMARY:SGAP Leaders SPEAK
DESCRIPTION:Monthly virtual speakers (Sydney Webber\, Laina\nAbbott\, Austin Joseph-various topics)
URL:https://www.sgapleaders.org/event/sgap-leaders-speak-2022-speakers/
END:VEVENT
BEGIN:VEVENT
DTSTART;VALUE=DATE:20220128
DTEND;VALUE=DATE:20220129
DTSTAMP:20260425T105842
CREATED:20220630T051311Z
LAST-MODIFIED:20220713T025011Z
UID:719-1643328000-1643414399@www.sgapleaders.org
SUMMARY:Sustainability Challenge - JFK LTI @ CUA- School of Engineering
DESCRIPTION:Catholic University- Washington\, DC\nKennedy high school LTI. Samriddi and Caesar\nled a session of March 3\, 2022 MCPS Climate\nSummit – Climate justice on lead in H20
URL:https://www.sgapleaders.org/event/sustainability-challenge-jfk-lti-cua-school-of-engineering/
END:VEVENT
BEGIN:VEVENT
DTSTART;VALUE=DATE:20220122
DTEND;VALUE=DATE:20220124
DTSTAMP:20260425T105842
CREATED:20220630T051156Z
LAST-MODIFIED:20220630T051239Z
UID:717-1642809600-1642982399@www.sgapleaders.org
SUMMARY:SPEAK SERIES: Teach Against Human Trafficking
DESCRIPTION:Teen entrepreneurs talk with peers about online grooming and signs of human trafficking in your back yard. (5 participants) \nGifts for Seniors MLK Project – DMV local nursing homes \n 10-noon EST (Michele\, Sophia\, Teri) – 280 middle and high school students
URL:https://www.sgapleaders.org/event/speak-series-teach-against-human-trafficking/
END:VEVENT
BEGIN:VEVENT
DTSTART;VALUE=DATE:20210903
DTEND;VALUE=DATE:20210904
DTSTAMP:20260425T105842
CREATED:20201122T194018Z
LAST-MODIFIED:20210305T140642Z
UID:262-1630627200-1630713599@www.sgapleaders.org
SUMMARY:THINK DESIGN for Social Impact (Wootton High School)
DESCRIPTION:Our Think Design workshop is designed to provide our students with a highly-engaging\, hands-on experience that allows them to envision themselves as agents of change and social entrepreneurs. Our workshop also seeks to empower students to tackle real-world challenges in their communities and beyond by introducing and cultivating skills in design thinking and promoting creative optimism. Students then leveraged these concepts to explore and ideate potential solutions to thorny problems such as teen suicide and mental health\, environmental justice\, climate change\, health equity\, or systemic racism.
URL:https://www.sgapleaders.org/event/think-design-for-social-impact-wootton-high-school-2/
END:VEVENT
BEGIN:VEVENT
DTSTART;VALUE=DATE:20210901
DTEND;VALUE=DATE:20210902
DTSTAMP:20260425T105842
CREATED:20201122T193933Z
LAST-MODIFIED:20210305T140609Z
UID:260-1630454400-1630540799@www.sgapleaders.org
SUMMARY:THINK DESIGN for Social Impact (Wootton High School)
DESCRIPTION:Our Think Design workshop is designed to provide our students with a highly-engaging\, hands-on experience that allows them to envision themselves as agents of change and social entrepreneurs. Our workshop also seeks to empower students to tackle real-world challenges in their communities and beyond by introducing and cultivating skills in design thinking and promoting creative optimism. Students then leveraged these concepts to explore and ideate potential solutions to thorny problems such as teen suicide and mental health\, environmental justice\, climate change\, health equity\, or systemic racism.
URL:https://www.sgapleaders.org/event/think-design-for-social-impact-wootton-high-school/
LOCATION:Virtual
END:VEVENT
BEGIN:VEVENT
DTSTART;VALUE=DATE:20210811
DTEND;VALUE=DATE:20210812
DTSTAMP:20260425T105842
CREATED:20210723T145535Z
LAST-MODIFIED:20210723T145558Z
UID:562-1628640000-1628726399@www.sgapleaders.org
SUMMARY:Princeton eLab Demo Day
DESCRIPTION:
URL:https://www.sgapleaders.org/event/princeton-elab-demo-day/
END:VEVENT
BEGIN:VEVENT
DTSTART;VALUE=DATE:20210810
DTEND;VALUE=DATE:20210811
DTSTAMP:20260425T105842
CREATED:20210723T145515Z
LAST-MODIFIED:20210723T145515Z
UID:561-1628553600-1628639999@www.sgapleaders.org
SUMMARY:ERANYC: Daniel Roever\, Boro Capital
DESCRIPTION:
URL:https://www.sgapleaders.org/event/eranyc-daniel-roever-boro-capital/
END:VEVENT
BEGIN:VEVENT
DTSTART;VALUE=DATE:20210806
DTEND;VALUE=DATE:20210807
DTSTAMP:20260425T105842
CREATED:20210723T145450Z
LAST-MODIFIED:20210723T145450Z
UID:560-1628208000-1628294399@www.sgapleaders.org
SUMMARY:NJTW celebrates 10th anniversary celebration with virtual networking
DESCRIPTION:
URL:https://www.sgapleaders.org/event/njtw-celebrates-10th-anniversary-celebration-with-virtual-networking/
END:VEVENT
BEGIN:VEVENT
DTSTART;VALUE=DATE:20210729
DTEND;VALUE=DATE:20210730
DTSTAMP:20260425T105842
CREATED:20210723T145318Z
LAST-MODIFIED:20210723T145318Z
UID:556-1627516800-1627603199@www.sgapleaders.org
SUMMARY:Innovation Chat: Rachel Braun Scherl\, SPARK + Dan Seewald\, Deliberate Innovation - we'll discuss product development in the female healthcare sector.
DESCRIPTION:
URL:https://www.sgapleaders.org/event/innovation-chat-rachel-braun-scherl-spark-dan-seewald-deliberate-innovation-well-discuss-product-development-in-the-female-healthcare-sector/
END:VEVENT
BEGIN:VEVENT
DTSTART;VALUE=DATE:20210727
DTEND;VALUE=DATE:20210728
DTSTAMP:20260425T105842
CREATED:20210723T145425Z
LAST-MODIFIED:20210723T145425Z
UID:559-1627344000-1627430399@www.sgapleaders.org
SUMMARY:Newlab: Shaping Future of Connected Hardware
DESCRIPTION:
URL:https://www.sgapleaders.org/event/newlab-shaping-future-of-connected-hardware/
END:VEVENT
BEGIN:VEVENT
DTSTART;VALUE=DATE:20210722
DTEND;VALUE=DATE:20210723
DTSTAMP:20260425T105842
CREATED:20210723T145406Z
LAST-MODIFIED:20210723T145406Z
UID:558-1626912000-1626998399@www.sgapleaders.org
SUMMARY:Startup Grind Princeton in person Party
DESCRIPTION:
URL:https://www.sgapleaders.org/event/startup-grind-princeton-in-person-party/
END:VEVENT
BEGIN:VEVENT
DTSTART;VALUE=DATE:20210722
DTEND;VALUE=DATE:20210723
DTSTAMP:20260425T105842
CREATED:20210723T145346Z
LAST-MODIFIED:20210723T145346Z
UID:557-1626912000-1626998399@www.sgapleaders.org
SUMMARY:Morris Tech: Entrepreneurs Open Mic Night IRL Social
DESCRIPTION:
URL:https://www.sgapleaders.org/event/morris-tech-entrepreneurs-open-mic-night-irl-social/
END:VEVENT
BEGIN:VEVENT
DTSTART;TZID=UTC:20210721T140000
DTEND;TZID=UTC:20210721T150000
DTSTAMP:20260425T105842
CREATED:20210723T145244Z
LAST-MODIFIED:20210723T145244Z
UID:555-1626876000-1626879600@www.sgapleaders.org
SUMMARY:Investor/Inventor Chat with David Horowitz\, Founder/CEO of Touchdown Ventures\, and inventor of the new Frequent Flyer family board game.
DESCRIPTION:
URL:https://www.sgapleaders.org/event/investor-inventor-chat-with-david-horowitz-founder-ceo-of-touchdown-ventures-and-inventor-of-the-new-frequent-flyer-family-board-game/
END:VEVENT
BEGIN:VEVENT
DTSTART;TZID=UTC:20210607T100000
DTEND;TZID=UTC:20210607T160000
DTSTAMP:20260425T105842
CREATED:20210305T135238Z
LAST-MODIFIED:20210308T034238Z
UID:426-1623060000-1623081600@www.sgapleaders.org
SUMMARY:COVID 19's Impact on the Sustainable Development Goals (SDGs)
DESCRIPTION:Student Leadership Conference on Development: How COVID 19 Impacts the SDGS  \nDuring the one-day conference\, up to 100 high school students from 11 countries grapple with the impact of COVID 19 in their communities.  Students view COVID 19’s impact from the lens of the seventeen sustainable development goals (SDGs) of the United Nations.  Join the discussion and share how COVID 19 has impacted your community. The tentative global sites are USA\, Republic of Georgia\, Philippians\, India\, Republic of Congo and Mexico. To register for this conference\, email us.  Watch the 30 minute documentary to learn more!
URL:https://www.sgapleaders.org/event/the-effect-of-covid-19-on-the-sustainable-development-goals/
LOCATION:Virtual
END:VEVENT
BEGIN:VEVENT
DTSTART;VALUE=DATE:20210511
DTEND;VALUE=DATE:20210512
DTSTAMP:20260425T105842
CREATED:20210324T151016Z
LAST-MODIFIED:20210324T151016Z
UID:496-1620691200-1620777599@www.sgapleaders.org
SUMMARY:Her- Story: Stephanie Stinson
DESCRIPTION:As we celebrate women and womanhood during this month\, let us salute women\, elevate their voices and share their accomplishments. Let us “toot’ each other’s horn. Let us tell her–story! Let us empower one another and listen to Stephanie as she endorses a fellow business owner and friend.
URL:https://www.sgapleaders.org/event/her-story-stephanie-stinson/
ATTACH;FMTTYPE=image/png:https://www.sgapleaders.org/wp-content/uploads/2021/03/feature.png
END:VEVENT
BEGIN:VEVENT
DTSTART;VALUE=DATE:20210504
DTEND;VALUE=DATE:20210505
DTSTAMP:20260425T105842
CREATED:20210324T140436Z
LAST-MODIFIED:20210324T140655Z
UID:495-1620086400-1620172799@www.sgapleaders.org
SUMMARY:Her- Story: Patricia Dubroof
DESCRIPTION:As we celebrate women and womanhood during this month\, let us salute women\, elevate their voices and share their accomplishments. Let us “toot’ each other’s horn. Let us tell her–story! Hear Patricia’s message as she empowers a fellow friend and business owner.
URL:https://www.sgapleaders.org/event/her-story-patricia-dubroof/
ATTACH;FMTTYPE=image/png:https://www.sgapleaders.org/wp-content/uploads/2021/03/feature.png
END:VEVENT
BEGIN:VEVENT
DTSTART;VALUE=DATE:20210427
DTEND;VALUE=DATE:20210428
DTSTAMP:20260425T105842
CREATED:20210324T140120Z
LAST-MODIFIED:20210324T140718Z
UID:494-1619481600-1619567999@www.sgapleaders.org
SUMMARY:Her- Story: Zula Oliveira
DESCRIPTION:As we celebrate women and womanhood during this month\, let us salute women\, elevate their voices and share their accomplishments. Let us “toot’ each other’s horn. Let us tell her–story! Let’s tune in to Zula’s message as she empowers a fellow friend and mentor.
URL:https://www.sgapleaders.org/event/her-story-zula-oliveira/
ATTACH;FMTTYPE=image/png:https://www.sgapleaders.org/wp-content/uploads/2021/03/feature.png
END:VEVENT
BEGIN:VEVENT
DTSTART;TZID=UTC:20210422T090000
DTEND;TZID=UTC:20210422T150000
DTSTAMP:20260425T105842
CREATED:20210225T225905Z
LAST-MODIFIED:20210308T030339Z
UID:423-1619082000-1619103600@www.sgapleaders.org
SUMMARY:CLIMATE CHANGE:  Student Conference on the Paris Agreement (SCoPA: COP26)
DESCRIPTION:SGAP Leaders’ partner\, Global Education Motivators (GEM)\, is kicking-off their overview discussion of the Student Conference on the Paris Agreement (SCoPA). Youth ages 13-18 from Saudi Arabia\, Philippians\, India\, Republic of Congo\, USA\, Republic of Georgia and several countries will come together to discuss how each country’s youth are combating climate change. Also\, hear from youth climate activists. A small fee is required to join today’s conference. For more information\, email Michele Joseph.
URL:https://www.sgapleaders.org/event/international-virtual-conference-on-scopa-cop26/
LOCATION:Virtual
END:VEVENT
BEGIN:VEVENT
DTSTART;VALUE=DATE:20210406
DTEND;VALUE=DATE:20210421
DTSTAMP:20260425T105842
CREATED:20210324T134945Z
LAST-MODIFIED:20210324T141000Z
UID:489-1617667200-1618963199@www.sgapleaders.org
SUMMARY:What is SGAP Leaders?
DESCRIPTION:What is SGAP? What does it mean? A little confused? Do not worry\, we will help. For several weeks\, posts will be made across all platforms to inform our audience of the meaning behind each letter of SGAP. Also\, information would be provided on the mission of SGAP\, and plans for future events for students. \nHelp us spread awareness about SGAP and to empower youth within our schools. Donations provide teacher training\, kits and unique programs to our young leaders! Click here to donate! \nVisit us on our social media platforms view these posts and stay up-to-date with messages \nInstagram – Twitter – Facebook – LinkedIn– Youtube \n 
URL:https://www.sgapleaders.org/event/what-is-sgap-leaders/
END:VEVENT
BEGIN:VEVENT
DTSTART;VALUE=DATE:20210402
DTEND;VALUE=DATE:20210403
DTSTAMP:20260425T105842
CREATED:20210225T233357Z
LAST-MODIFIED:20210305T125930Z
UID:432-1617321600-1617407999@www.sgapleaders.org
SUMMARY:April Newsletter
DESCRIPTION:
URL:https://www.sgapleaders.org/event/april-newsletter/
LOCATION:Virtual
END:VEVENT
BEGIN:VEVENT
DTSTART;VALUE=DATE:20210330
DTEND;VALUE=DATE:20210331
DTSTAMP:20260425T105842
CREATED:20210324T132628Z
LAST-MODIFIED:20210324T141109Z
UID:488-1617062400-1617148799@www.sgapleaders.org
SUMMARY:Her- Story: Zainab Abbas
DESCRIPTION:As we celebrate women and womanhood during this month\, let us salute women\, elevate their voices and share their accomplishments. Let us “toot’ each other’s horn. Let us tell her–story! Let us empower one another and listen to Zainab as she endorses a fellow business owner and friend.
URL:https://www.sgapleaders.org/event/her-story-zainab-abbas/
ATTACH;FMTTYPE=image/png:https://www.sgapleaders.org/wp-content/uploads/2021/03/feature.png
END:VEVENT
BEGIN:VEVENT
DTSTART;VALUE=DATE:20210324
DTEND;VALUE=DATE:20210325
DTSTAMP:20260425T105842
CREATED:20210324T131642Z
LAST-MODIFIED:20210324T141040Z
UID:485-1616544000-1616630399@www.sgapleaders.org
SUMMARY:Her- Story: Cherylann Sherwood
DESCRIPTION:As we celebrate women and womanhood during this month\, let us salute women\, elevate their voices and share their accomplishments. Let us “toot’ each other’s horn. Let us tell her-story! Listen to Cherylann Sherwood as she shares her story and endorses fellow-business owner and friend. Thank you for all you do Cherylann!
URL:https://www.sgapleaders.org/event/her-story-cherylann-sherwood/
ATTACH;FMTTYPE=image/png:https://www.sgapleaders.org/wp-content/uploads/2021/03/feature.png
END:VEVENT
BEGIN:VEVENT
DTSTART;TZID=UTC:20210320T130000
DTEND;TZID=UTC:20210320T150000
DTSTAMP:20260425T105842
CREATED:20210322T010002Z
LAST-MODIFIED:20210307T080548Z
UID:442-1616245200-1616252400@www.sgapleaders.org
SUMMARY:DESIGN JAM — Vaccinate DC!
DESCRIPTION:Join us for a student-led event\, Design Jam – Vaccinate DC! \nA design jam cultivates a creative environment to improve the community environment. It is an uncompetition – we’ll be working together to make a positive impact on something we all care about: vaccinating DC. \nThe design jam will allow ideas to flow in an interactive way! There will be expert panelists and community stakeholders to give inspiration for breakout rooms where thoughts will come to life. \nIf you or someone you know should be invited to be a Design Jam Ambassador\, please fill out this brief form. That means you will introduce yourself at the session so participants can ask you questions. \nThe design jam is organized so you can come to part or all of either session\, have fun and learn a lot\, and make a difference. \nFor more information or for accomodations\, contact Dr. Chris Danek\, danek@cua.edu.
URL:https://www.sgapleaders.org/event/design-jam-vaccinate-dc-2/
LOCATION:Virtual
END:VEVENT
BEGIN:VEVENT
DTSTART;VALUE=DATE:20210318
DTEND;VALUE=DATE:20210319
DTSTAMP:20260425T105842
CREATED:20210317T171813Z
LAST-MODIFIED:20210317T172757Z
UID:482-1616025600-1616111999@www.sgapleaders.org
SUMMARY:March Madness: SLAM DUNK Registration Deadline
DESCRIPTION:GAMERS…. \nTest your skills with our single-player game. Learn about the dangers of online grooming which has increased 700% since the beginning of the shut down of our schools. As we open our schools\, online grooming is still a present danger. \nOutstanding gamers have a chance to win a $100 Amazon gift card (2nd and 3rd prize winners: $50 and $25\, respectively). Schools\, troops\, and youth ministries have a chance to win other awesome prizes too. Game ON!  \nHOW TO PLAY… \n1. Download the mobile app from the App Store or Google Play \n2. Select VIP Code and if you’re a… \n                                      Student\, enter: SlamDunkStudent21\n                                      Teacher\, enter: SlamDunkTeacher21\n                                        Parent\, enter: SlamDunkParent21\n3. Create your profile\, login\, and PLAY! \nKick-off begins this Thursday\, March 18\, 2021. \nWinners will be announced on April 5\, 2021.
URL:https://www.sgapleaders.org/event/march-madness-slam-dunk-registration-deadline/
END:VEVENT
END:VCALENDAR