BEGIN:VCALENDAR
VERSION:2.0
PRODID:-//SGAP Leaders - ECPv6.14.1//NONSGML v1.0//EN
CALSCALE:GREGORIAN
METHOD:PUBLISH
X-ORIGINAL-URL:https://www.sgapleaders.org
X-WR-CALDESC:Events for SGAP Leaders
REFRESH-INTERVAL;VALUE=DURATION:PT1H
X-Robots-Tag:noindex
X-PUBLISHED-TTL:PT1H
BEGIN:VTIMEZONE
TZID:UTC
BEGIN:STANDARD
TZOFFSETFROM:+0000
TZOFFSETTO:+0000
TZNAME:UTC
DTSTART:20250101T000000
END:STANDARD
END:VTIMEZONE
BEGIN:VEVENT
DTSTART;TZID=UTC:20251001T000000
DTEND;TZID=UTC:20251130T000000
DTSTAMP:20260421T142245
CREATED:20250330T235521Z
LAST-MODIFIED:20250330T235521Z
UID:1908-1759276800-1764460800@www.sgapleaders.org
SUMMARY:Climate Clinics and Sustainability Exchange & SPEAK Series
DESCRIPTION:
URL:https://www.sgapleaders.org/event/climate-clinics-and-sustainability-exchange-speak-series/
END:VEVENT
END:VCALENDAR