BEGIN:VCALENDAR
VERSION:2.0
PRODID:-//SGAP Leaders - ECPv6.14.1//NONSGML v1.0//EN
CALSCALE:GREGORIAN
METHOD:PUBLISH
X-WR-CALNAME:SGAP Leaders
X-ORIGINAL-URL:https://www.sgapleaders.org
X-WR-CALDESC:Events for SGAP Leaders
REFRESH-INTERVAL;VALUE=DURATION:PT1H
X-Robots-Tag:noindex
X-PUBLISHED-TTL:PT1H
BEGIN:VTIMEZONE
TZID:UTC
BEGIN:STANDARD
TZOFFSETFROM:+0000
TZOFFSETTO:+0000
TZNAME:UTC
DTSTART:20250101T000000
END:STANDARD
END:VTIMEZONE
BEGIN:VEVENT
DTSTART;TZID=UTC:20250101T000000
DTEND;TZID=UTC:20250401T000000
DTSTAMP:20260425T140019
CREATED:20250330T235215Z
LAST-MODIFIED:20250330T235215Z
UID:1890-1735689600-1743465600@www.sgapleaders.org
SUMMARY:Climate Summit Workshops (LTI)
DESCRIPTION:Weekly coach students at Kennedy HS to prepare\nStudent-led workshops for MCPS Climate Summit Impact of Firestorms – Animal Shelters/Air Quality
URL:https://www.sgapleaders.org/event/climate-summit-workshops-lti/
END:VEVENT
BEGIN:VEVENT
DTSTART;TZID=UTC:20250126T000000
DTEND;TZID=UTC:20250518T000000
DTSTAMP:20260425T140019
CREATED:20250330T235215Z
LAST-MODIFIED:20250330T235215Z
UID:1889-1737849600-1747526400@www.sgapleaders.org
SUMMARY:Sustainability FELLOWS
DESCRIPTION:Virtual & in-person\n                                                Twelve FELLOWS meet every other week to plan and execute two sustainability projects. (earn 100 SSL each)
URL:https://www.sgapleaders.org/event/sustainability-fellows/
END:VEVENT
BEGIN:VEVENT
DTSTART;TZID=UTC:20250201T000000
DTEND;TZID=UTC:20250430T000000
DTSTAMP:20260425T140019
CREATED:20250330T235215Z
LAST-MODIFIED:20250330T235215Z
UID:1891-1738368000-1745971200@www.sgapleaders.org
SUMMARY:SGAP Leaders SPEAK
DESCRIPTION:Monthly virtual speakers\nAnna Getanah – Model/Entrepreneur – March 15 2025*
URL:https://www.sgapleaders.org/event/sgap-leaders-speak-5/
END:VEVENT
BEGIN:VEVENT
DTSTART;TZID=UTC:20250301T000000
DTEND;TZID=UTC:20250331T000000
DTSTAMP:20260425T140019
CREATED:20250330T235218Z
LAST-MODIFIED:20250330T235218Z
UID:1895-1740787200-1743379200@www.sgapleaders.org
SUMMARY:MYMC Tour
DESCRIPTION:Sustainability Fellows Tour
URL:https://www.sgapleaders.org/event/mymc-tour/
END:VEVENT
BEGIN:VEVENT
DTSTART;TZID=UTC:20250301T000000
DTEND;TZID=UTC:20250331T000000
DTSTAMP:20260425T140019
CREATED:20250330T235318Z
LAST-MODIFIED:20250330T235318Z
UID:1898-1740787200-1743379200@www.sgapleaders.org
SUMMARY:Power of Your Vote!
DESCRIPTION:Kennedy HS LTI & Wheaton HS students. Learn about the power of their vote before 18
URL:https://www.sgapleaders.org/event/power-of-your-vote/
END:VEVENT
END:VCALENDAR